BEGIN:VCALENDAR
VERSION:2.0
PRODID:-//artlove - ECPv6.15.20//NONSGML v1.0//EN
CALSCALE:GREGORIAN
METHOD:PUBLISH
X-ORIGINAL-URL:https://artlove.ch
X-WR-CALDESC:Veranstaltungen für artlove
REFRESH-INTERVAL;VALUE=DURATION:PT1H
X-Robots-Tag:noindex
X-PUBLISHED-TTL:PT1H
BEGIN:VTIMEZONE
TZID:Europe/Zurich
BEGIN:DAYLIGHT
TZOFFSETFROM:+0100
TZOFFSETTO:+0200
TZNAME:CEST
DTSTART:20240331T010000
END:DAYLIGHT
BEGIN:STANDARD
TZOFFSETFROM:+0200
TZOFFSETTO:+0100
TZNAME:CET
DTSTART:20241027T010000
END:STANDARD
BEGIN:DAYLIGHT
TZOFFSETFROM:+0100
TZOFFSETTO:+0200
TZNAME:CEST
DTSTART:20250330T010000
END:DAYLIGHT
BEGIN:STANDARD
TZOFFSETFROM:+0200
TZOFFSETTO:+0100
TZNAME:CET
DTSTART:20251026T010000
END:STANDARD
BEGIN:DAYLIGHT
TZOFFSETFROM:+0100
TZOFFSETTO:+0200
TZNAME:CEST
DTSTART:20260329T010000
END:DAYLIGHT
BEGIN:STANDARD
TZOFFSETFROM:+0200
TZOFFSETTO:+0100
TZNAME:CET
DTSTART:20261025T010000
END:STANDARD
END:VTIMEZONE
BEGIN:VEVENT
DTSTART;TZID=Europe/Zurich:20251017T150000
DTEND;TZID=Europe/Zurich:20251017T150000
DTSTAMP:20260419T163020
CREATED:20250710T150131Z
LAST-MODIFIED:20250929T110052Z
UID:1378-1760713200-1760713200@artlove.ch
SUMMARY:Finde Ruhe und Verbindung in der Natur - Workshop am 17.10.25
DESCRIPTION:Ein transformativer Workshop\, welcher dir Ruhe und Verbindung zu dir selbst bringt!\n\n\nHast du das Gefühl\, dass Ängste\, Selbstzweifel und innere Unruhe dich immer wieder aus dem Gleichgewicht bringen? Wünschst du dir\, Stress loszulassen und dich wieder mit dir selbst zu verbinden? \nDann lade ich dich ein\, beim Waldbaden in die Natur einzutauchen und deinen inneren Frieden zu finden. \n  \n…DAS BEKOMMST DU IN MEINEM WORKSHOP \nDieses Waldbaden-Erlebnis bringt dich zurück zu dir selbst. Es ist eine wunderbare Gelegenheit\, Stress und alte Muster hinter dir zu lassen und deine innere Balance und Leichtigkeit wiederzufinden. Studien zeigen\, dass Waldbaden das Stresshormon Cortisol senken kann. \n  \n• Dauer: 15:00 – 16:20 Uhr\n• Ort: Ipsach \n\n\nHier kannst du dich anmelden: Klick hier\nGerne kannst du auch als Gruppe buchen
URL:https://artlove.ch/event/clone-of-finde-ruhe-und-verbindung-in-der-natur-workshop-am-17-10-2025/
LOCATION:Beatrice Siegenthaler\, Kleinfeldstrasse 26\, Ipsach\, 2563\, Switzerland
ATTACH;FMTTYPE=image/png:https://artlove.ch/wp-content/uploads/2025/01/Waldbaden.png
ORGANIZER;CN="Beatrice Siegenthaler":MAILTO:info@artlove.ch
END:VEVENT
BEGIN:VEVENT
DTSTART;TZID=Europe/Zurich:20250717T150000
DTEND;TZID=Europe/Zurich:20250717T163000
DTSTAMP:20260419T163020
CREATED:20250710T150702Z
LAST-MODIFIED:20250929T105941Z
UID:1381-1752764400-1752769800@artlove.ch
SUMMARY:Schluss mit Einsamkeit Workshop am 14.10.2025
DESCRIPTION:Ein transformativer Workshop\, welcher deine Einsamkeit in eine tiefe und nachhaltige Selbstliebe verwandelt!\n\n\nKENNST DU DAS ZERREISSENDE GEFÜHL DER EINSAMKEIT? \n\nÄngste und Selbstzweifel überwältigen dich\nDu spürst eine ständige innere Unruhe\nDu bist unter Menschen und fühlst dich trotzdem einsam\nDu fühlst dich verloren und nur noch traurig\nDu hörst immer wieder die Stimme die dir sagt: „Ich schaffe das nicht alleine“\nObwohl du weisst\, dass es dir nicht gut tut\, greiffst du zu ungesunden Ablenkungen\n\n  \nDAS HAT NUN EIN ENDE! \n\nMittels einer Analyse erkennst du dein verborgenes Selbstliebe-Potenzial\nDu lernst\, dich mit dir zu verbinden und löst dich von allen Abhängigkeiten\nDu lernst\, wie du deine Zeit erfüllend durch deine verborgene Kreativität verbringst\nDu wirst deine Lebensfreude tief in dir selbst entdecken\n\n  \n…DAS ALLES BEKOMMST DU IN MEINEM WORKSHOP\nErlebe die Liebe zu dir – melde dich jetzt an! \n  \n• Dauer: 15:00 – 16:20 Uhr\n• Ort: Ipsach \n\n\nHier kannst du dich anmelden: Klick hier\nGerne kannst du auch als Gruppe buchen oder bei dir vor Ort als Gastgeber
URL:https://artlove.ch/event/schluss-mit-einsamkeit-workshop-am-14-10-2025/
LOCATION:Beatrice Siegenthaler\, Kleinfeldstrasse 26\, Ipsach\, 2563\, Switzerland
CATEGORIES:Selbstliebe Workshop
ATTACH;FMTTYPE=image/png:https://artlove.ch/wp-content/uploads/2025/01/Schluss-mit-Einsamkeit.png
ORGANIZER;CN="Beatrice Siegenthaler":MAILTO:info@artlove.ch
END:VEVENT
END:VCALENDAR